BEGIN:VCALENDAR
VERSION:2.0
PRODID:-//Landesverein Badische Heimat e.V. - ECPv6.15.13//NONSGML v1.0//EN
CALSCALE:GREGORIAN
METHOD:PUBLISH
X-ORIGINAL-URL:https://badische-heimat.de
X-WR-CALDESC:Veranstaltungen für Landesverein Badische Heimat e.V.
REFRESH-INTERVAL;VALUE=DURATION:PT1H
X-Robots-Tag:noindex
X-PUBLISHED-TTL:PT1H
BEGIN:VTIMEZONE
TZID:Europe/Berlin
BEGIN:DAYLIGHT
TZOFFSETFROM:+0100
TZOFFSETTO:+0200
TZNAME:CEST
DTSTART:20220327T010000
END:DAYLIGHT
BEGIN:STANDARD
TZOFFSETFROM:+0200
TZOFFSETTO:+0100
TZNAME:CET
DTSTART:20221030T010000
END:STANDARD
BEGIN:DAYLIGHT
TZOFFSETFROM:+0100
TZOFFSETTO:+0200
TZNAME:CEST
DTSTART:20230326T010000
END:DAYLIGHT
BEGIN:STANDARD
TZOFFSETFROM:+0200
TZOFFSETTO:+0100
TZNAME:CET
DTSTART:20231029T010000
END:STANDARD
BEGIN:DAYLIGHT
TZOFFSETFROM:+0100
TZOFFSETTO:+0200
TZNAME:CEST
DTSTART:20240331T010000
END:DAYLIGHT
BEGIN:STANDARD
TZOFFSETFROM:+0200
TZOFFSETTO:+0100
TZNAME:CET
DTSTART:20241027T010000
END:STANDARD
END:VTIMEZONE
BEGIN:VEVENT
DTSTART;TZID=Europe/Berlin:20230118T190000
DTEND;TZID=Europe/Berlin:20230118T210000
DTSTAMP:20260425T141904
CREATED:20221119T101254Z
LAST-MODIFIED:20221119T101254Z
UID:6749-1674068400-1674075600@badische-heimat.de
SUMMARY:Peter Mohr: Die Mittelbadische Eisenbahngesellschaft (MEG) in Bild und Film
DESCRIPTION:Der Vortrag findet abends um 19.00 Uhr im Kreistagssaal (D 0.13) des Landratsamtes (Am Schlossplatz 5) statt.\nKontakt: Martin Walter/Kreisarchiv Rastatt\, Am Schlossplatz 5\, Tel.: 07222/381-3581.\nDer Eintritt ist frei.\nBeachten Sie bitte die Ankündigungen in der Presse!
URL:https://badische-heimat.de/veranstaltungen/peter-mohr-die-mittelbadische-eisenbahngesellschaft-meg-in-bild-und-film/
LOCATION:Landratsamt Rastatt\, Am Schlossplatz 5\, Rastatt\, Baden-Württemberg\, 76437\, Germany
CATEGORIES:Alle Veranstaltungen,Kulturelle Veranstaltung,Regionalgruppe Rastatt
ORGANIZER;CN="Regionalgruppe Rastatt":MAILTO:m.walter@landkreis-rastatt.de
END:VEVENT
END:VCALENDAR