BEGIN:VCALENDAR
VERSION:2.0
PRODID:-//Landesverein Badische Heimat e.V. - ECPv6.15.13//NONSGML v1.0//EN
CALSCALE:GREGORIAN
METHOD:PUBLISH
X-WR-CALNAME:Landesverein Badische Heimat e.V.
X-ORIGINAL-URL:https://badische-heimat.de
X-WR-CALDESC:Veranstaltungen für Landesverein Badische Heimat e.V.
REFRESH-INTERVAL;VALUE=DURATION:PT1H
X-Robots-Tag:noindex
X-PUBLISHED-TTL:PT1H
BEGIN:VTIMEZONE
TZID:Europe/Berlin
BEGIN:DAYLIGHT
TZOFFSETFROM:+0100
TZOFFSETTO:+0200
TZNAME:CEST
DTSTART:20220327T010000
END:DAYLIGHT
BEGIN:STANDARD
TZOFFSETFROM:+0200
TZOFFSETTO:+0100
TZNAME:CET
DTSTART:20221030T010000
END:STANDARD
BEGIN:DAYLIGHT
TZOFFSETFROM:+0100
TZOFFSETTO:+0200
TZNAME:CEST
DTSTART:20230326T010000
END:DAYLIGHT
BEGIN:STANDARD
TZOFFSETFROM:+0200
TZOFFSETTO:+0100
TZNAME:CET
DTSTART:20231029T010000
END:STANDARD
BEGIN:DAYLIGHT
TZOFFSETFROM:+0100
TZOFFSETTO:+0200
TZNAME:CEST
DTSTART:20240331T010000
END:DAYLIGHT
BEGIN:STANDARD
TZOFFSETFROM:+0200
TZOFFSETTO:+0100
TZNAME:CET
DTSTART:20241027T010000
END:STANDARD
END:VTIMEZONE
BEGIN:VEVENT
DTSTART;TZID=Europe/Berlin:20230912T153000
DTEND;TZID=Europe/Berlin:20230912T170000
DTSTAMP:20260425T184639
CREATED:20230828T160156Z
LAST-MODIFIED:20230828T160156Z
UID:6904-1694532600-1694538000@badische-heimat.de
SUMMARY:BadenCafé: Lesung von Hans Mehlin "Die Hotzenwald Anna"
DESCRIPTION:Autorenlesung im BadenCafe´ des Landesvereins Badische Heimat: Hans Mehlin\, „Die Hotzenwälder Anna“. Der Freiburger Forstwissenschaftler und Forstamtsleiter a.D. Dr. Hans Mehlin berichtet vom spannenden und nicht alltäglichen Leben seiner Urgroßmutter Anna als ländlicher Dienstmagd im städtisch-bürgerlichen Kulturkreis. \nDienstag\, 12.9.23\, 15.30 Uhr in der Bibliothek des Landesvereins\, Hansjakob-Str. 12. \nAnmeldung unter Tel. 0761-73724 oder E-Mail: info@badische-heimat.de. \nDer Eintritt ist frei.
URL:https://badische-heimat.de/veranstaltungen/badencafe-lesung-von-hans-mehlin-die-hotzenwald-anna/
LOCATION:Haus der Badischen Heimat\, Hansjakobstraße 12\, Freiburg\, Baden-Würtemberg\, 79117\, Deutschland
CATEGORIES:Alle Veranstaltungen,Kulturelle Veranstaltung,Regionalgruppe Freiburg
ORGANIZER;CN="Regionalgruppe Freiburg":MAILTO:info@badische-heimat.de
END:VEVENT
END:VCALENDAR