BEGIN:VCALENDAR
VERSION:2.0
PRODID:-//Landesverein Badische Heimat e.V. - ECPv6.15.13//NONSGML v1.0//EN
CALSCALE:GREGORIAN
METHOD:PUBLISH
X-ORIGINAL-URL:https://badische-heimat.de
X-WR-CALDESC:Veranstaltungen für Landesverein Badische Heimat e.V.
REFRESH-INTERVAL;VALUE=DURATION:PT1H
X-Robots-Tag:noindex
X-PUBLISHED-TTL:PT1H
BEGIN:VTIMEZONE
TZID:Europe/Berlin
BEGIN:DAYLIGHT
TZOFFSETFROM:+0100
TZOFFSETTO:+0200
TZNAME:CEST
DTSTART:20220327T010000
END:DAYLIGHT
BEGIN:STANDARD
TZOFFSETFROM:+0200
TZOFFSETTO:+0100
TZNAME:CET
DTSTART:20221030T010000
END:STANDARD
BEGIN:DAYLIGHT
TZOFFSETFROM:+0100
TZOFFSETTO:+0200
TZNAME:CEST
DTSTART:20230326T010000
END:DAYLIGHT
BEGIN:STANDARD
TZOFFSETFROM:+0200
TZOFFSETTO:+0100
TZNAME:CET
DTSTART:20231029T010000
END:STANDARD
BEGIN:DAYLIGHT
TZOFFSETFROM:+0100
TZOFFSETTO:+0200
TZNAME:CEST
DTSTART:20240331T010000
END:DAYLIGHT
BEGIN:STANDARD
TZOFFSETFROM:+0200
TZOFFSETTO:+0100
TZNAME:CET
DTSTART:20241027T010000
END:STANDARD
END:VTIMEZONE
BEGIN:VEVENT
DTSTART;TZID=Europe/Berlin:20231114T153000
DTEND;TZID=Europe/Berlin:20231114T170000
DTSTAMP:20260425T235110
CREATED:20231108T093635Z
LAST-MODIFIED:20231108T093744Z
UID:6941-1699975800-1699981200@badische-heimat.de
SUMMARY:BadenCafé
DESCRIPTION:„Süße Stücke. Ausgewählte Cafes im Südwesten.“ Buchvorstellung mit den Autoren Jutta und Daniel Höllstin\, Freiburg. Bücher können direkt erworben und auf Wunsch auch signiert werden. \nHaus Badische Heimat\, Hansjakobstr. 12\, 79117 Freiburg. \nAnmeldung bitte bei der Geschäftsstelle bis 10.11.2023\, Tel. 0761/73724 oder Email an: info@badische-heimat.de. Eintritt frei
URL:https://badische-heimat.de/veranstaltungen/badencafe/
LOCATION:Haus der Badischen Heimat\, Hansjakobstraße 12\, Freiburg\, Baden-Würtemberg\, 79117\, Deutschland
CATEGORIES:Alle Veranstaltungen,Kulturelle Veranstaltung,Regionalgruppe Freiburg
ORGANIZER;CN="Regionalgruppe Freiburg":MAILTO:info@badische-heimat.de
END:VEVENT
END:VCALENDAR