BEGIN:VCALENDAR
VERSION:2.0
PRODID:-//Landesverein Badische Heimat e.V. - ECPv6.15.13//NONSGML v1.0//EN
CALSCALE:GREGORIAN
METHOD:PUBLISH
X-ORIGINAL-URL:https://badische-heimat.de
X-WR-CALDESC:Veranstaltungen für Landesverein Badische Heimat e.V.
REFRESH-INTERVAL;VALUE=DURATION:PT1H
X-Robots-Tag:noindex
X-PUBLISHED-TTL:PT1H
BEGIN:VTIMEZONE
TZID:Europe/Berlin
BEGIN:DAYLIGHT
TZOFFSETFROM:+0100
TZOFFSETTO:+0200
TZNAME:CEST
DTSTART:20240331T010000
END:DAYLIGHT
BEGIN:STANDARD
TZOFFSETFROM:+0200
TZOFFSETTO:+0100
TZNAME:CET
DTSTART:20241027T010000
END:STANDARD
BEGIN:DAYLIGHT
TZOFFSETFROM:+0100
TZOFFSETTO:+0200
TZNAME:CEST
DTSTART:20250330T010000
END:DAYLIGHT
BEGIN:STANDARD
TZOFFSETFROM:+0200
TZOFFSETTO:+0100
TZNAME:CET
DTSTART:20251026T010000
END:STANDARD
BEGIN:DAYLIGHT
TZOFFSETFROM:+0100
TZOFFSETTO:+0200
TZNAME:CEST
DTSTART:20260329T010000
END:DAYLIGHT
BEGIN:STANDARD
TZOFFSETFROM:+0200
TZOFFSETTO:+0100
TZNAME:CET
DTSTART:20261025T010000
END:STANDARD
END:VTIMEZONE
BEGIN:VEVENT
DTSTART;TZID=Europe/Berlin:20251203T154500
DTEND;TZID=Europe/Berlin:20251203T173000
DTSTAMP:20260424T102207
CREATED:20251026T161546Z
LAST-MODIFIED:20251110T092456Z
UID:7834-1764776700-1764783000@badische-heimat.de
SUMMARY:Inge Herold\, Kunsthalle Mannheim: Führung durch die Ausstellung: „Kirchner\, Lehmbruck\, Nolde. Geschichten des Expressionismus in Mannheim“
DESCRIPTION:Mit der Sonderausstellung wird erstmals ein umfassender Fokus auf das für die Geschichte des Museums wichtige Kapitel Expressionismus gelegt. Im Zentrum stehen die eigene Sammlung\, aber auch Leihgaben einst beschlagnahmter Werke. Ein besonderer Schwerpunkt ist dem Maler und Bildhauer Wilhelm Lehmbruck und der Mannheimer Sammlung seines einstigen Mäzens Sally Falk gewidmet. Daneben werden Werke anderer namhafter Expressionisten wie Erich Heckel\, Alexej von Jawlensky\, Ernst Ludwig Kirchner\, Oskar Kokoschka\, Emil Nolde oder Max Pechstein aus einer Mannheimer Privatsammlung gezeigt. \nDie Führung dauert ca. 90 Min. \n  \nFührungsgebühr für die Gruppe:100 Euro pauschal; zzgl. Eintrittspreis von 16 Euro pro Person. \nBei einer Gruppe von 10 Personen ermäßigt sich der Eintrittspreis auf 12 Euro pro Person. \nBei 10 Personen ist das ein Preis von 22 € pro Person; bei 25 Personen liegt der Preis bei16 € \n  \nSind wir unter 10 Personen zahlt jede/r  den xten Teil von 100 sowie den vollen Eintrittspreis von 16 Euro. \n  \nDie Führung ist auf 25 Personen begrenzt. \n  \nAnmeldung bitte unter maybudk@web.de ab Donnerstag\, den 27. November 2025. \n  \nZeit: Mittwoch\, 3. Dezember 2025\, Beginn: 16.00 Uhr \nOrt: Kunsthalle Mannheim\, Friedrichsplatz 4. \nTreffpunkt: Kasse Kunsthalle um 15.45. \n 
URL:https://badische-heimat.de/veranstaltungen/inge-herold-kunsthalle-mannheim-fuehrung-durch-die-ausstellung-kirchner-lehmbruck-nolde-geschichten-des-expressionismus-in-mannheim/
LOCATION:Kunsthalle Mannheim\, Eingang Moltkestraße\, Mannheim\, Baden-Württemberg\, 68165\, Germany
CATEGORIES:Alle Veranstaltungen,Kulturelle Veranstaltung,Regionalgruppe Mannheim
ORGANIZER;CN="Regionalgruppe Mannheim":MAILTO:budde@badische-heimat.de
END:VEVENT
END:VCALENDAR