BEGIN:VCALENDAR
VERSION:2.0
PRODID:-//Landesverein Badische Heimat e.V. - ECPv6.15.13//NONSGML v1.0//EN
CALSCALE:GREGORIAN
METHOD:PUBLISH
X-WR-CALNAME:Landesverein Badische Heimat e.V.
X-ORIGINAL-URL:https://badische-heimat.de
X-WR-CALDESC:Veranstaltungen für Landesverein Badische Heimat e.V.
REFRESH-INTERVAL;VALUE=DURATION:PT1H
X-Robots-Tag:noindex
X-PUBLISHED-TTL:PT1H
BEGIN:VTIMEZONE
TZID:Europe/Berlin
BEGIN:DAYLIGHT
TZOFFSETFROM:+0100
TZOFFSETTO:+0200
TZNAME:CEST
DTSTART:20250330T010000
END:DAYLIGHT
BEGIN:STANDARD
TZOFFSETFROM:+0200
TZOFFSETTO:+0100
TZNAME:CET
DTSTART:20251026T010000
END:STANDARD
BEGIN:DAYLIGHT
TZOFFSETFROM:+0100
TZOFFSETTO:+0200
TZNAME:CEST
DTSTART:20260329T010000
END:DAYLIGHT
BEGIN:STANDARD
TZOFFSETFROM:+0200
TZOFFSETTO:+0100
TZNAME:CET
DTSTART:20261025T010000
END:STANDARD
BEGIN:DAYLIGHT
TZOFFSETFROM:+0100
TZOFFSETTO:+0200
TZNAME:CEST
DTSTART:20270328T010000
END:DAYLIGHT
BEGIN:STANDARD
TZOFFSETFROM:+0200
TZOFFSETTO:+0100
TZNAME:CET
DTSTART:20271031T010000
END:STANDARD
END:VTIMEZONE
BEGIN:VEVENT
DTSTART;TZID=Europe/Berlin:20260417T083000
DTEND;TZID=Europe/Berlin:20260417T180000
DTSTAMP:20260422T101718
CREATED:20260408T142130Z
LAST-MODIFIED:20260410T142625Z
UID:8017-1776414600-1776448800@badische-heimat.de
SUMMARY:Bus-Exkursion nach St. Märgen: Klosterkirche und Klostermuseum
DESCRIPTION:Der Kur- und Wallfahrtsort St. Märgen beeindruckt durch seine herrliche Lage im Schwarzwald 25 km östlich von Freiburg. Prägend ist das ehemalige Augustiner-Chorherrenstift. Wir erhalten Führungen durch das Klostermuseum (u.a. mit einer wertvollen Sammlung von Schwarzwald-Uhren) und die Klosterkirche mit der Silbermann-Orgel. \nAnmeldung und Kosten: max. 20 Personen\, Kosten für Bus\, Eintritte und Führungen: 65.- Euro\, Anmeldung bis 14.4.2026. Die Kosten werden im Bus eingezogen. \nAblauf: Abfahrt Busbahnhof Lörrach: 8.30 Uhr\, Führung Klostermuseum: 10.30 Uhr\, nicht barrierefrei). Während der Mittagspause ist u.a. das genossenschaftlich betriebene Café Goldene Krone mit regionaler Küche und Kuchen von Landfrauen geöffnet. Führung durch die Klosterkirche: 14.00 Uhr\, Rückfahrt spätestens 16.00 Uhr\, Ankunft Lörrach spätestens 18.00 Uhr.
URL:https://badische-heimat.de/veranstaltungen/bus-exkursion-nach-st-maergen-klosterkirche-und-klostermuseum/
LOCATION:Busbahnhof Lörrach\, Bahnhofsstraße 1\, Lörrach\, 79540\, Germany
CATEGORIES:Alle Veranstaltungen,Kulturelle Veranstaltung,Regionalgruppe Lörrach/Markgräferland
ATTACH;FMTTYPE=image/png:https://badische-heimat.de/wp-content/uploads/2026/04/Bildpostkarte-St.-Maergen-1962.png
END:VEVENT
END:VCALENDAR