BEGIN:VCALENDAR
VERSION:2.0
PRODID:-//Landesverein Badische Heimat e.V. - ECPv6.15.13//NONSGML v1.0//EN
CALSCALE:GREGORIAN
METHOD:PUBLISH
X-WR-CALNAME:Landesverein Badische Heimat e.V.
X-ORIGINAL-URL:https://badische-heimat.de
X-WR-CALDESC:Veranstaltungen für Landesverein Badische Heimat e.V.
REFRESH-INTERVAL;VALUE=DURATION:PT1H
X-Robots-Tag:noindex
X-PUBLISHED-TTL:PT1H
BEGIN:VTIMEZONE
TZID:Europe/Berlin
BEGIN:DAYLIGHT
TZOFFSETFROM:+0100
TZOFFSETTO:+0200
TZNAME:CEST
DTSTART:20220327T010000
END:DAYLIGHT
BEGIN:STANDARD
TZOFFSETFROM:+0200
TZOFFSETTO:+0100
TZNAME:CET
DTSTART:20221030T010000
END:STANDARD
BEGIN:DAYLIGHT
TZOFFSETFROM:+0100
TZOFFSETTO:+0200
TZNAME:CEST
DTSTART:20230326T010000
END:DAYLIGHT
BEGIN:STANDARD
TZOFFSETFROM:+0200
TZOFFSETTO:+0100
TZNAME:CET
DTSTART:20231029T010000
END:STANDARD
BEGIN:DAYLIGHT
TZOFFSETFROM:+0100
TZOFFSETTO:+0200
TZNAME:CEST
DTSTART:20240331T010000
END:DAYLIGHT
BEGIN:STANDARD
TZOFFSETFROM:+0200
TZOFFSETTO:+0100
TZNAME:CET
DTSTART:20241027T010000
END:STANDARD
END:VTIMEZONE
BEGIN:VEVENT
DTSTART;TZID=Europe/Berlin:20230315T183000
DTEND;TZID=Europe/Berlin:20230315T210000
DTSTAMP:20260423T104124
CREATED:20230308T094418Z
LAST-MODIFIED:20230315T094439Z
UID:6827-1678905000-1678914000@badische-heimat.de
SUMMARY:Die Badische Heimat lädt ein: Vortrag mit Dr. Johannes Werner im Landratsamt: Die badische Malerin Amalie Bensinger
DESCRIPTION:Die Badische Heimat lädt ein: Vortrag mit Dr. Johannes Werner im Landratsamt: Die badische Malerin Amalie Bensinger \n  \n„Die Malerin Amalie Bensinger “ steht im Mittelpunkt des Vortrags von Dr. Johannes Werner am kommenden Mittwoch im Landratsamt. \n  \nDer Publizist Johannes Werner berichtet am 15. März 2023 über eine außergewöhnliche Frau\, die 1809 in Bruchsal geboren wurde und 1889 auf der Reichenau starb. Malerin wollte sie werden\, um jeden Preis – und so zog Amalie Bensinger\, die einzige Tochter aus guter Familie\, von Mannheim nach Düsseldorf an die dortige Kunstakademie\, die damals eigentlich gar keine Frauen aufnahm. Nach privaten Studien bei den besten Meistern ihrer Zeit zog sie weiter nach Rom und schloss sich dort einer Gemeinschaft von Gleichgesinnten an\, zu der auch ihr badischer Landsmann Scheffel gehörte\, der sie in seinen Werken an verborgener Stelle verewigt hat. Dann näherte sie sich\, immer noch in Rom\, den Nazarenern an. Mit einigen von ihnen wollte sie daselbst sogar ein Kloster für Künstler und Künstlerinnen gründen; es war ein in jeder Hinsicht utopisches\, die frühen Bauhütten fortsetzendes und das spätere Bauhaus vorwegnehmendes Projekt. Die nachgerade berühmte ‚Beuroner Kunstschule‘ hat es\, von ihr begleitet\, nur teilweise verwirklichen können\, während sie selber ihren Weg weiterging und bedeutende Werke schuf\, in denen sie weiterlebt\, auch wenn sich leider nicht viele von ihnen erhalten haben. Aber schon dass sie lebte\, und wie\, ist der Erinnerung wert. \n  \nBuchtipp: \nJohannes Werner: Die badische Malerin Amalie Bensinger\, eine Frau und ihre Freunde. Verlag Regionalkultur\, Heidelberg u. a. 2021\, ISBN 978-3-95505-266-9. \n  \nEinlass am 15. März 23 ist ab 18:30 Uhr. Der Vortrag im Kreistagssaal beginnt um 19:00 Uhr im Landratsamt Rastatt\, Am Schlossplatz 5. \n  \nInfo-Telefon 07222/381-3581.
URL:https://badische-heimat.de/veranstaltungen/die-badische-heimat-laedt-ein-vortrag-mit-dr-johannes-werner-im-landratsamt-die-badische-malerin-amalie-bensinger/
LOCATION:Landratsamt Rastatt\, Am Schlossplatz 5\, Rastatt\, Baden-Württemberg\, 76437\, Germany
CATEGORIES:Alle Veranstaltungen,Kulturelle Veranstaltung,Regionalgruppe Rastatt
ORGANIZER;CN="Regionalgruppe Rastatt":MAILTO:m.walter@landkreis-rastatt.de
END:VEVENT
BEGIN:VEVENT
DTSTART;TZID=Europe/Berlin:20230324T154500
DTEND;TZID=Europe/Berlin:20230324T180000
DTSTAMP:20260423T104124
CREATED:20220609T101138Z
LAST-MODIFIED:20220609T101138Z
UID:6556-1679672700-1679680800@badische-heimat.de
SUMMARY:Michael Caroli: Besichtigung der KZ-Gedenkstätte Sandhofen
DESCRIPTION:Über tausend Männer aus Polen waren 1944/45 Häftlinge in der Außenstelle Sandhofen des KZ Natzweiler\, wo sie zur Zwangsarbeit bei Daimler-Benz verpflichtet wurden. Ihre Unterkunft war die damalige Friedrichschule\, heute Gustav-Wiederkehr-Schule\, wo sie mitten im Wohngebiet unter engsten Bedingungen hausten\, hungerten und litten.\nHeute befindet sich in der Schule eine Gedenkstätte\, die an dieses traurige\, lange verdrängte Kapitel der Mannheimer Geschichte erinnert. Eine Dauerausstellung führt in die Zeit ein und widmet sich dem Thema Zwangsarbeit mit seinen Sandhofener Spezifika. \nFreitag\, 24. Februar 2023\, Treffpunkt: Gustav-Wiederkehr-Schule\, Kriegerstr. 28\, 68307 Mannheim\, 15.45\nUhr. Beginn der Führung 16.00 Uhr. Für die Führung ist eine Höchstzahl von 20 Personen zugelassen.\nAnmeldung ab 20.2.2023 unter Tel. 0621-293-7027.
URL:https://badische-heimat.de/veranstaltungen/michael-caroli-besichtigung-der-kz-gedenkstaette-sandhofen-2/
LOCATION:Gustav-Wiederkehr-Schule\, Kriegerstraße 28\, Mannheim\, Baden-Württemberg\, 68307\, Germany
CATEGORIES:Alle Veranstaltungen,Kulturelle Veranstaltung,Regionalgruppe Mannheim
ORGANIZER;CN="Regionalgruppe Mannheim":MAILTO:budde@badische-heimat.de
END:VEVENT
BEGIN:VEVENT
DTSTART;TZID=Europe/Berlin:20230330T170000
DTEND;TZID=Europe/Berlin:20230330T190000
DTSTAMP:20260423T104124
CREATED:20230308T094153Z
LAST-MODIFIED:20230315T094605Z
UID:6823-1680195600-1680202800@badische-heimat.de
SUMMARY:Dipl.Ing. Peter Spiegelhalter:  Aus-und Neubau der Rheintalbahn - Planungsstände der einzelnen Abschnitte  in der Raumschaft Breisgauer Bucht.
DESCRIPTION:Die Rheintalbahn zwischen Karlsruhe und Basel ist mehr als 150 Jahre alt. Täglich verkehren über 300 Züge auf dieser Strecke\, die nun seit über 12 Jahren Abschnitt für Abschnitt ausgebaut wird.\nFür den Freiburger Bereich mit der Breisgauer Bucht gibt es konkrete Planungen\, die mit der betroffenen Region im Planfeststellungsverfahren erörtert werden.\nDer Abschnitt betrifft die Umfahrung Freiburg zwischen Riegel und Bad Krozingen.\nMit dem Ausbau  und teilweisen Neubau der Rheintalbahn möchte die Bahn die Streckenkapazität erhöhen\, den Güterverkehr vom Personenverkehr entmischen und qualitative Verbesserungen für den Reisenden erreichen.\nDie aktuellen Planungsstände wird uns der Referent für Eisenbahnangelegenheiten beim Regierungspräsidium Freiburg\, Dipl.Ing. Peter Spiegelhalter in einem Bildvortrag vorstellen und erläutern.\n\nDonnerstag\, 30. März\, 17.00 Uhr im Haus der Badischen Heimat ind Freiburg\, Hansjakobstraße 12. Erreichbar mit der Linie 1 der VAG\, Haltestelle Emil Gött Straße\nAnmeldung unter e-mail: gbu18@aol.com oder Telefon 0761 64386.
URL:https://badische-heimat.de/veranstaltungen/dipl-ing-peter-spiegelhalter-aus-und-neubau-der-rheintalbahn-planungsstaende-der-einzelnen-abschnitte-in-der-raumschaft-breisgauer-bucht/
LOCATION:Haus der Badischen Heimat\, Hansjakobstraße 12\, Freiburg\, Baden-Würtemberg\, 79117\, Deutschland
CATEGORIES:Alle Veranstaltungen,Kulturelle Veranstaltung,Regionalgruppe Freiburg
END:VEVENT
END:VCALENDAR