BEGIN:VCALENDAR
VERSION:2.0
PRODID:-//Landesverein Badische Heimat e.V. - ECPv6.15.13//NONSGML v1.0//EN
CALSCALE:GREGORIAN
METHOD:PUBLISH
X-WR-CALNAME:Landesverein Badische Heimat e.V.
X-ORIGINAL-URL:https://badische-heimat.de
X-WR-CALDESC:Veranstaltungen für Landesverein Badische Heimat e.V.
REFRESH-INTERVAL;VALUE=DURATION:PT1H
X-Robots-Tag:noindex
X-PUBLISHED-TTL:PT1H
BEGIN:VTIMEZONE
TZID:Europe/Berlin
BEGIN:DAYLIGHT
TZOFFSETFROM:+0100
TZOFFSETTO:+0200
TZNAME:CEST
DTSTART:20220327T010000
END:DAYLIGHT
BEGIN:STANDARD
TZOFFSETFROM:+0200
TZOFFSETTO:+0100
TZNAME:CET
DTSTART:20221030T010000
END:STANDARD
BEGIN:DAYLIGHT
TZOFFSETFROM:+0100
TZOFFSETTO:+0200
TZNAME:CEST
DTSTART:20230326T010000
END:DAYLIGHT
BEGIN:STANDARD
TZOFFSETFROM:+0200
TZOFFSETTO:+0100
TZNAME:CET
DTSTART:20231029T010000
END:STANDARD
BEGIN:DAYLIGHT
TZOFFSETFROM:+0100
TZOFFSETTO:+0200
TZNAME:CEST
DTSTART:20240331T010000
END:DAYLIGHT
BEGIN:STANDARD
TZOFFSETFROM:+0200
TZOFFSETTO:+0100
TZNAME:CET
DTSTART:20241027T010000
END:STANDARD
END:VTIMEZONE
BEGIN:VEVENT
DTSTART;TZID=Europe/Berlin:20230621T170000
DTEND;TZID=Europe/Berlin:20230621T190000
DTSTAMP:20260425T125552
CREATED:20230419T102440Z
LAST-MODIFIED:20230419T102440Z
UID:6852-1687366800-1687374000@badische-heimat.de
SUMMARY:Gemeindereferentin Waindok u.a.\, St. Bartholomäus-Kirche\, Mannheim-Sandhofen Führung durch die St. Bartholomäus-Kirche
DESCRIPTION:Ende der zweiten Hälfte des 19. Jahrhunderts erfasste die Industrialisierung Sandhofens. Wegen des Zuzugs einer Vielzahl katholischer Menschen nach Sandhofen entstand der Wunsch\, in Sandhofen eine katholische Kirche zu errichten. Die Grundsteinlegung fand am 10. Juni 1894 statt\, am 27. Juni 1899 wurde die Bartholomäus-Kirche eingeweiht. Sie wurde nach den Plänen des bekannten katholischen Kirchenarchitekten Ludwig Maier errichtet. Sie stellt sich heute als eine neugotische dreischiffige Hallenkirche mit einem zwischen Langhaus und Chor errichteten Turm dar. Sie wurde nach liturgischen Gesichtspunkten geplant: Im vorderen erhöhten Chor\, der sich durch Treppenstufen von dem Gemeinderaum im Langhaus abhob\, befand sich der Altar\, im hinteren Teil der Kirche war die Orgelempore\, die auf den Altar ausgerichtet war. Im zweiten Weltkrieg ist die Bartholomäus-Kirche beschädigt worden und 1951 wiederaufgebaut und renoviert worden. Heute gehört die St. Bartholomäus-Gemeinde zur Seelsorgeeinheit Mannheim-Nord. \nMittwoch\, 21.06.2023\, 17.00 Uhr; Treffpunkt 16.50 Uhr: Eingangsbereich Kirche\, Schönauer Str. 30/Ecke Bartholomäusstr. Verkehrsverbindung: Straßenbahn Linie 3 nach MA-Sandhofen\, Endstation\, von dort geradeaus in die Schönauer Str. 30 gehen\, 5 Min. Gehweg
URL:https://badische-heimat.de/veranstaltungen/gemeindereferentin-waindok-u-a-st-bartholomaeus-kirche-mannheim-sandhofen-fuehrung-durch-die-st-bartholomaeus-kirche/
LOCATION:Bartholomäus Kirche\, Schönauerstr. 30\, Mannheim\, Baden-Württemberg\, 68307\, Germany
CATEGORIES:Alle Veranstaltungen,Kulturelle Veranstaltung,Regionalgruppe Mannheim
ORGANIZER;CN="Regionalgruppe Mannheim":MAILTO:budde@badische-heimat.de
END:VEVENT
END:VCALENDAR