BEGIN:VCALENDAR
VERSION:2.0
PRODID:-//Landesverein Badische Heimat e.V. - ECPv6.15.13//NONSGML v1.0//EN
CALSCALE:GREGORIAN
METHOD:PUBLISH
X-ORIGINAL-URL:https://badische-heimat.de
X-WR-CALDESC:Veranstaltungen für Landesverein Badische Heimat e.V.
REFRESH-INTERVAL;VALUE=DURATION:PT1H
X-Robots-Tag:noindex
X-PUBLISHED-TTL:PT1H
BEGIN:VTIMEZONE
TZID:Europe/Berlin
BEGIN:DAYLIGHT
TZOFFSETFROM:+0100
TZOFFSETTO:+0200
TZNAME:CEST
DTSTART:20220327T010000
END:DAYLIGHT
BEGIN:STANDARD
TZOFFSETFROM:+0200
TZOFFSETTO:+0100
TZNAME:CET
DTSTART:20221030T010000
END:STANDARD
BEGIN:DAYLIGHT
TZOFFSETFROM:+0100
TZOFFSETTO:+0200
TZNAME:CEST
DTSTART:20230326T010000
END:DAYLIGHT
BEGIN:STANDARD
TZOFFSETFROM:+0200
TZOFFSETTO:+0100
TZNAME:CET
DTSTART:20231029T010000
END:STANDARD
BEGIN:DAYLIGHT
TZOFFSETFROM:+0100
TZOFFSETTO:+0200
TZNAME:CEST
DTSTART:20240331T010000
END:DAYLIGHT
BEGIN:STANDARD
TZOFFSETFROM:+0200
TZOFFSETTO:+0100
TZNAME:CET
DTSTART:20241027T010000
END:STANDARD
END:VTIMEZONE
BEGIN:VEVENT
DTSTART;TZID=Europe/Berlin:20230711T153000
DTEND;TZID=Europe/Berlin:20230711T170000
DTSTAMP:20260425T141811
CREATED:20230709T085021Z
LAST-MODIFIED:20230709T085021Z
UID:6860-1689089400-1689094800@badische-heimat.de
SUMMARY:Lesezirkel im BadenCafé
DESCRIPTION:Wir laden Sie herzlich ein zum Lesezirkel im BadenCafe´. \nGabriele Keller- Nitsche stellt den historischen Schwarzwaldkrimi „Die Kräutersammlerin“ von Heidrun Hurst vor. Landesverein Badische Heimat Geschäftsstelle Hansjakobstr. 12\, 79117 Freiburg. Anmeldung unter Tel. 0761-73724 oder email: info@badische-heimat.de erbeten. Eintritt frei.
URL:https://badische-heimat.de/veranstaltungen/lesezirkel-im-badencafe/
LOCATION:Haus der Badischen Heimat\, Hansjakobstraße 12\, Freiburg\, Baden-Würtemberg\, 79117\, Deutschland
CATEGORIES:Alle Veranstaltungen,Kulturelle Veranstaltung,Regionalgruppe Freiburg
ORGANIZER;CN="Regionalgruppe Freiburg":MAILTO:info@badische-heimat.de
END:VEVENT
END:VCALENDAR